BEGIN:VCALENDAR
VERSION:2.0
PRODID:-//Bachem-Saar - ECPv6.15.20//NONSGML v1.0//EN
CALSCALE:GREGORIAN
METHOD:PUBLISH
X-ORIGINAL-URL:https://bachem-saar.de
X-WR-CALDESC:Veranstaltungen für Bachem-Saar
REFRESH-INTERVAL;VALUE=DURATION:PT1H
X-Robots-Tag:noindex
X-PUBLISHED-TTL:PT1H
BEGIN:VTIMEZONE
TZID:UTC
BEGIN:STANDARD
TZOFFSETFROM:+0000
TZOFFSETTO:+0000
TZNAME:UTC
DTSTART:20250101T000000
END:STANDARD
END:VTIMEZONE
BEGIN:VEVENT
DTSTART;VALUE=DATE:20261101
DTEND;VALUE=DATE:20261102
DTSTAMP:20260421T094028
CREATED:20260414T075403Z
LAST-MODIFIED:20260414T075403Z
UID:2615-1793491200-1793577599@bachem-saar.de
SUMMARY:Allerheiligen
DESCRIPTION:
URL:https://bachem-saar.de/event/allerheiligen/
CATEGORIES:Feiertag
END:VEVENT
BEGIN:VEVENT
DTSTART;VALUE=DATE:20261103
DTEND;VALUE=DATE:20261104
DTSTAMP:20260421T094028
CREATED:20260414T072913Z
LAST-MODIFIED:20260414T072913Z
UID:2595-1793664000-1793750399@bachem-saar.de
SUMMARY:Biotonne
DESCRIPTION:
URL:https://bachem-saar.de/event/biotonne-16/
CATEGORIES:Biotonne
END:VEVENT
BEGIN:VEVENT
DTSTART;VALUE=DATE:20261107
DTEND;VALUE=DATE:20261108
DTSTAMP:20260421T094028
CREATED:20260415T054244Z
LAST-MODIFIED:20260415T054244Z
UID:2666-1794009600-1794095999@bachem-saar.de
SUMMARY:Martinsumzug
DESCRIPTION:
URL:https://bachem-saar.de/event/martinsumzug/
CATEGORIES:Veranstaltung
END:VEVENT
BEGIN:VEVENT
DTSTART;VALUE=DATE:20261109
DTEND;VALUE=DATE:20261110
DTSTAMP:20260421T094028
CREATED:20260414T071413Z
LAST-MODIFIED:20260414T071413Z
UID:2545-1794182400-1794268799@bachem-saar.de
SUMMARY:Gelbe Tonne
DESCRIPTION:
URL:https://bachem-saar.de/event/gelbe-tonne-16/
CATEGORIES:Gelbe Tonne
END:VEVENT
BEGIN:VEVENT
DTSTART;VALUE=DATE:20261111
DTEND;VALUE=DATE:20261112
DTSTAMP:20260421T094028
CREATED:20260414T072243Z
LAST-MODIFIED:20260414T072243Z
UID:2571-1794355200-1794441599@bachem-saar.de
SUMMARY:Restabfalltonne
DESCRIPTION:
URL:https://bachem-saar.de/event/restabfalltonne-16/
CATEGORIES:Restabfalltonne
END:VEVENT
BEGIN:VEVENT
DTSTART;VALUE=DATE:20261115
DTEND;VALUE=DATE:20261116
DTSTAMP:20260421T094028
CREATED:20260414T075444Z
LAST-MODIFIED:20260414T075444Z
UID:2617-1794700800-1794787199@bachem-saar.de
SUMMARY:Volkstrauertag
DESCRIPTION:
URL:https://bachem-saar.de/event/volkstrauertag/
CATEGORIES:Feiertag
END:VEVENT
BEGIN:VEVENT
DTSTART;VALUE=DATE:20261117
DTEND;VALUE=DATE:20261118
DTSTAMP:20260421T094028
CREATED:20260414T072935Z
LAST-MODIFIED:20260414T072935Z
UID:2597-1794873600-1794959999@bachem-saar.de
SUMMARY:Biotonne
DESCRIPTION:
URL:https://bachem-saar.de/event/biotonne-17/
CATEGORIES:Biotonne
END:VEVENT
BEGIN:VEVENT
DTSTART;VALUE=DATE:20261122
DTEND;VALUE=DATE:20261123
DTSTAMP:20260421T094028
CREATED:20260414T075517Z
LAST-MODIFIED:20260414T075517Z
UID:2619-1795305600-1795391999@bachem-saar.de
SUMMARY:Totensonntag
DESCRIPTION:
URL:https://bachem-saar.de/event/totensonntag/
CATEGORIES:Feiertag
END:VEVENT
BEGIN:VEVENT
DTSTART;VALUE=DATE:20261123
DTEND;VALUE=DATE:20261124
DTSTAMP:20260421T094028
CREATED:20260414T071434Z
LAST-MODIFIED:20260414T071434Z
UID:2547-1795392000-1795478399@bachem-saar.de
SUMMARY:Gelbe Tonne
DESCRIPTION:
URL:https://bachem-saar.de/event/gelbe-tonne-17/
CATEGORIES:Gelbe Tonne
END:VEVENT
BEGIN:VEVENT
DTSTART;VALUE=DATE:20261125
DTEND;VALUE=DATE:20261126
DTSTAMP:20260421T094028
CREATED:20260414T072305Z
LAST-MODIFIED:20260414T072305Z
UID:2573-1795564800-1795651199@bachem-saar.de
SUMMARY:Restabfalltonne
DESCRIPTION:
URL:https://bachem-saar.de/event/restabfalltonne-17/
CATEGORIES:Restabfalltonne
END:VEVENT
BEGIN:VEVENT
DTSTART;VALUE=DATE:20261128
DTEND;VALUE=DATE:20261129
DTSTAMP:20260421T094028
CREATED:20260415T054341Z
LAST-MODIFIED:20260415T054341Z
UID:2668-1795824000-1795910399@bachem-saar.de
SUMMARY:Weihnachtsmarkt
DESCRIPTION:
URL:https://bachem-saar.de/event/weihnachtsmarkt/
CATEGORIES:Veranstaltung
END:VEVENT
BEGIN:VEVENT
DTSTART;VALUE=DATE:20261129
DTEND;VALUE=DATE:20261130
DTSTAMP:20260421T094028
CREATED:20260414T075550Z
LAST-MODIFIED:20260414T075550Z
UID:2621-1795910400-1795996799@bachem-saar.de
SUMMARY:1. Advent
DESCRIPTION:
URL:https://bachem-saar.de/event/1-advent/
CATEGORIES:Feiertag
END:VEVENT
END:VCALENDAR