BEGIN:VCALENDAR
VERSION:2.0
PRODID:-//Bachem-Saar - ECPv6.15.20//NONSGML v1.0//EN
CALSCALE:GREGORIAN
METHOD:PUBLISH
X-ORIGINAL-URL:https://bachem-saar.de
X-WR-CALDESC:Veranstaltungen für Bachem-Saar
REFRESH-INTERVAL;VALUE=DURATION:PT1H
X-Robots-Tag:noindex
X-PUBLISHED-TTL:PT1H
BEGIN:VTIMEZONE
TZID:UTC
BEGIN:STANDARD
TZOFFSETFROM:+0000
TZOFFSETTO:+0000
TZNAME:UTC
DTSTART:20250101T000000
END:STANDARD
END:VTIMEZONE
BEGIN:VEVENT
DTSTART;VALUE=DATE:20261025
DTEND;VALUE=DATE:20261026
DTSTAMP:20260421T093919
CREATED:20260415T054121Z
LAST-MODIFIED:20260415T054121Z
UID:2664-1792886400-1792972799@bachem-saar.de
SUMMARY:Winterzeit
DESCRIPTION:
URL:https://bachem-saar.de/event/winterzeit/
CATEGORIES:Sonstiges
END:VEVENT
END:VCALENDAR